BEGIN:VCALENDAR
VERSION:2.0
PRODID:-//JIJ Floreert - ECPv6.15.20//NONSGML v1.0//EN
CALSCALE:GREGORIAN
METHOD:PUBLISH
X-ORIGINAL-URL:https://jijfloreert.nl
X-WR-CALDESC:Evenementen voor JIJ Floreert
REFRESH-INTERVAL;VALUE=DURATION:PT1H
X-Robots-Tag:noindex
X-PUBLISHED-TTL:PT1H
BEGIN:VTIMEZONE
TZID:Europe/Amsterdam
BEGIN:DAYLIGHT
TZOFFSETFROM:+0100
TZOFFSETTO:+0200
TZNAME:CEST
DTSTART:20240331T010000
END:DAYLIGHT
BEGIN:STANDARD
TZOFFSETFROM:+0200
TZOFFSETTO:+0100
TZNAME:CET
DTSTART:20241027T010000
END:STANDARD
BEGIN:DAYLIGHT
TZOFFSETFROM:+0100
TZOFFSETTO:+0200
TZNAME:CEST
DTSTART:20250330T010000
END:DAYLIGHT
BEGIN:STANDARD
TZOFFSETFROM:+0200
TZOFFSETTO:+0100
TZNAME:CET
DTSTART:20251026T010000
END:STANDARD
BEGIN:DAYLIGHT
TZOFFSETFROM:+0100
TZOFFSETTO:+0200
TZNAME:CEST
DTSTART:20260329T010000
END:DAYLIGHT
BEGIN:STANDARD
TZOFFSETFROM:+0200
TZOFFSETTO:+0100
TZNAME:CET
DTSTART:20261025T010000
END:STANDARD
END:VTIMEZONE
BEGIN:VEVENT
DTSTART;TZID=Europe/Amsterdam:20250408T191500
DTEND;TZID=Europe/Amsterdam:20250408T213000
DTSTAMP:20260422T091639
CREATED:20240619T184557Z
LAST-MODIFIED:20250224T180927Z
UID:1728-1744139700-1744147800@jijfloreert.nl
SUMMARY:Informatie traumaseksualiteit
DESCRIPTION:Seksueel misbruik.\nSeksueel misbruik en het geheim waarvan de dader niet wil dat dit zichtbaar wordt.\n“Het geheim” verpakt in schuld en schaamte. In mijn praktijk zie ik veel cliënten hiermee worstelen\, ze hebben moeite om het geheim van seksueel misbruik te doorbreken.\nDe stap om letterlijk naar de praktijk te komen vraagt al zoveel moed en lef! Het kost ze soms jaren.\nSlachtoffers denken vaak;\n\nIk had toch nee kunnen zeggen?\nIk heb het zelf uitgelokt.\nWat zullen ze van me denken als ze dit weten?\nWat heeft het nu voor zin om hier nog over te praten?\nDeze details zijn echt niet meer relevant.\n\nHet ontneemt slachtoffers vaak letterlijk en figuurlijk hun adem. Met veel mentale en fysieke klachten tot gevolg.\n\nEen kluwen van trauma\, de shock\, seks\, schade\, slachtofferschap en daderschap.\n\nHet is hoog tijd voor informatie over dit thema.\n\nHoe herkennen we (vroeg) kinderlijk seksueel misbruik?\nHoe werkt daderschap? En welke gevolgen heeft dit voor iemands leven.\nHoe herken je fysieke en mentale klachten bij slachtoffers\, bij jezelf of anderen?\nHoe werken de innerlijke patronen bij iemand die is misbruikt en bezet raakt door de dader?\n\nWij nodigen jullie van harte uit voor onze lezing. \nOf je nu slachtoffer\, betrokkene of professional bent. Het taboe doorbreken we samen niet alleen! \n \n\nZien wij je daar?\nOpgave is gewenst en kan via elisaencorine@gmail.com
URL:https://jijfloreert.nl/activiteit/traumaseksualiteit/
LOCATION:havenweg 14 nagele\, Havenweg 14\, Nagele
ATTACH;FMTTYPE=image/webp:https://jijfloreert.nl/wp-content/uploads/2024/03/verloren-zelf.webp
ORGANIZER;CN="Elisa Bakker en Corine van Westerloo":MAILTO:elisaencorine@gmail.com
END:VEVENT
END:VCALENDAR