BEGIN:VCALENDAR
VERSION:2.0
PRODID:-//JIJ Floreert - ECPv6.15.20//NONSGML v1.0//EN
CALSCALE:GREGORIAN
METHOD:PUBLISH
X-WR-CALNAME:JIJ Floreert
X-ORIGINAL-URL:https://jijfloreert.nl
X-WR-CALDESC:Evenementen voor JIJ Floreert
REFRESH-INTERVAL;VALUE=DURATION:PT1H
X-Robots-Tag:noindex
X-PUBLISHED-TTL:PT1H
BEGIN:VTIMEZONE
TZID:Europe/Amsterdam
BEGIN:DAYLIGHT
TZOFFSETFROM:+0100
TZOFFSETTO:+0200
TZNAME:CEST
DTSTART:20240331T010000
END:DAYLIGHT
BEGIN:STANDARD
TZOFFSETFROM:+0200
TZOFFSETTO:+0100
TZNAME:CET
DTSTART:20241027T010000
END:STANDARD
BEGIN:DAYLIGHT
TZOFFSETFROM:+0100
TZOFFSETTO:+0200
TZNAME:CEST
DTSTART:20250330T010000
END:DAYLIGHT
BEGIN:STANDARD
TZOFFSETFROM:+0200
TZOFFSETTO:+0100
TZNAME:CET
DTSTART:20251026T010000
END:STANDARD
BEGIN:DAYLIGHT
TZOFFSETFROM:+0100
TZOFFSETTO:+0200
TZNAME:CEST
DTSTART:20260329T010000
END:DAYLIGHT
BEGIN:STANDARD
TZOFFSETFROM:+0200
TZOFFSETTO:+0100
TZNAME:CET
DTSTART:20261025T010000
END:STANDARD
END:VTIMEZONE
BEGIN:VEVENT
DTSTART;TZID=Europe/Amsterdam:20251003T093000
DTEND;TZID=Europe/Amsterdam:20251212T120000
DTSTAMP:20260421T221831
CREATED:20240709T182413Z
LAST-MODIFIED:20250922T065940Z
UID:1740-1759483800-1765540800@jijfloreert.nl
SUMMARY:Steungroep seksueel misbruik
DESCRIPTION:Steungroep seksueel misbruik\n\n\nWerken met opstellingen. \nLet op\, de avonden zijn gewijzigd na ochtenden.  \nStartdatum: 3\,17 en 31 oktober\n14 en 28 november\n12 december \nWaar: Westeinde 160 Nieuwleusen achter Zwolle \nInvestering: €590\,00 euro voor vergoeding mogelijkheden kun je nader informeren. \nHelen doe je samen niet alleen! \n6 ochtenden om in een kleine setting te herstellen van de schade na seksueel misbruik.\nEen veilig plek om te delen\, er is ruimte voor creatieve verwerking\, oefeningen en opstellingen middels psychodrama.\nWaarom de groep?\n \n\nHier vind je gelijkgestemden\nJe hebt elkaar nodig om patronen te doorbreken\nMisbruik isoleert en wij geloven juist in de kracht van samen delen is helen.\n\nJe bent van harte welkom.\n \n\nElisa en Corine \n\nMeld je hier aan
URL:https://jijfloreert.nl/activiteit/steungroep-seksueel-misbruik-2/
LOCATION:westeinde 60 nieuwleusen\, westeinde 60\, nieuwleusen
ATTACH;FMTTYPE=image/png:https://jijfloreert.nl/wp-content/uploads/2024/07/Donkerblauw-en-Creme-Sportevenement-Promotie-Wandelevenement-Golfdag-Ten_20250209_194815_0000-e1739127522254.png
ORGANIZER;CN="Elisa Bakker en Corine van Westerloo":MAILTO:elisaencorine@gmail.com
END:VEVENT
BEGIN:VEVENT
DTSTART;TZID=Europe/Amsterdam:20250627T100000
DTEND;TZID=Europe/Amsterdam:20250627T170000
DTSTAMP:20260421T221831
CREATED:20250604T123943Z
LAST-MODIFIED:20250604T123943Z
UID:1897-1751018400-1751043600@jijfloreert.nl
SUMMARY:Thema dag over Grenzen
DESCRIPTION:
URL:https://jijfloreert.nl/activiteit/thema-dag-over-grenzen/
LOCATION:Diever
ORGANIZER;CN="Elisa Bakker en Corine van Westerloo":MAILTO:elisaencorine@gmail.com
END:VEVENT
BEGIN:VEVENT
DTSTART;TZID=Europe/Amsterdam:20250408T191500
DTEND;TZID=Europe/Amsterdam:20250408T213000
DTSTAMP:20260421T221831
CREATED:20240619T184557Z
LAST-MODIFIED:20250224T180927Z
UID:1728-1744139700-1744147800@jijfloreert.nl
SUMMARY:Informatie traumaseksualiteit
DESCRIPTION:Seksueel misbruik.\nSeksueel misbruik en het geheim waarvan de dader niet wil dat dit zichtbaar wordt.\n“Het geheim” verpakt in schuld en schaamte. In mijn praktijk zie ik veel cliënten hiermee worstelen\, ze hebben moeite om het geheim van seksueel misbruik te doorbreken.\nDe stap om letterlijk naar de praktijk te komen vraagt al zoveel moed en lef! Het kost ze soms jaren.\nSlachtoffers denken vaak;\n\nIk had toch nee kunnen zeggen?\nIk heb het zelf uitgelokt.\nWat zullen ze van me denken als ze dit weten?\nWat heeft het nu voor zin om hier nog over te praten?\nDeze details zijn echt niet meer relevant.\n\nHet ontneemt slachtoffers vaak letterlijk en figuurlijk hun adem. Met veel mentale en fysieke klachten tot gevolg.\n\nEen kluwen van trauma\, de shock\, seks\, schade\, slachtofferschap en daderschap.\n\nHet is hoog tijd voor informatie over dit thema.\n\nHoe herkennen we (vroeg) kinderlijk seksueel misbruik?\nHoe werkt daderschap? En welke gevolgen heeft dit voor iemands leven.\nHoe herken je fysieke en mentale klachten bij slachtoffers\, bij jezelf of anderen?\nHoe werken de innerlijke patronen bij iemand die is misbruikt en bezet raakt door de dader?\n\nWij nodigen jullie van harte uit voor onze lezing. \nOf je nu slachtoffer\, betrokkene of professional bent. Het taboe doorbreken we samen niet alleen! \n \n\nZien wij je daar?\nOpgave is gewenst en kan via elisaencorine@gmail.com
URL:https://jijfloreert.nl/activiteit/traumaseksualiteit/
LOCATION:havenweg 14 nagele\, Havenweg 14\, Nagele
ATTACH;FMTTYPE=image/webp:https://jijfloreert.nl/wp-content/uploads/2024/03/verloren-zelf.webp
ORGANIZER;CN="Elisa Bakker en Corine van Westerloo":MAILTO:elisaencorine@gmail.com
END:VEVENT
BEGIN:VEVENT
DTSTART;TZID=Europe/Amsterdam:20250327T000000
DTEND;TZID=Europe/Amsterdam:20250329T000000
DTSTAMP:20260421T221831
CREATED:20240318T153813Z
LAST-MODIFIED:20250209T190328Z
UID:1540-1743033600-1743206400@jijfloreert.nl
SUMMARY:Een christelijke (stilte) retraite
DESCRIPTION:Met Hem van oud naar nieuw.  \nWaar sta je nu? Wat laat je achter? Wat neem je mee? Zijn er nog zaken of dingen die jij op orde wilt maken? Met jezelf\, anderen of God? \nVoel je welkom op deze stilte retraite op een prachtige locatie gelegen in het bos inclusief overnachting. \nDeze retraite organiseer ik samen onder begeleiding met Annet en Erna van de Kleine Hoeve. Meld je hier aan
URL:https://jijfloreert.nl/activiteit/een-christelijke-stilte-retraite/
LOCATION:Jij Floreert\, Onderduikersweg 6\, De Bult\, Overijssel\, 8346KP\, Nederland
ATTACH;FMTTYPE=image/png:https://jijfloreert.nl/wp-content/uploads/2024/03/20240306_143727_0000-1-e1711304499408.png
END:VEVENT
END:VCALENDAR